BEGIN:VCALENDAR
VERSION:2.0
PRODID:-//ChamberMaster//Event Calendar 2.0//EN
METHOD:PUBLISH
X-PUBLISHED-TTL:P1H
REFRESH-INTERVAL:P1H
CALSCALE:GREGORIAN
BEGIN:VTIMEZONE
TZID:America/Chicago
BEGIN:DAYLIGHT
RRULE:FREQ=YEARLY;BYMONTH=3;BYDAY=2SU
DTSTART:20070101T000000
TZOFFSETFROM:-0600
TZOFFSETTO:-0500
TZNAME:Central Daylight Time
END:DAYLIGHT
BEGIN:STANDARD
RRULE:FREQ=YEARLY;BYMONTH=11;BYDAY=1SU
DTSTART:20070101T000000
TZOFFSETFROM:-0500
TZOFFSETTO:-0600
TZNAME:Central Standard Time
END:STANDARD
END:VTIMEZONE
BEGIN:VEVENT
DTSTART;TZID=America/Chicago:20260917T170000
DTEND;TZID=America/Chicago:20260917T200000
X-MICROSOFT-CDO-ALLDAYEVENT:FALSE
SUMMARY:Third Thursday
DESCRIPTION:Hosted by Valmont\, the Third Thursday will include Country Music Showdown and lots of give-aways
X-ALT-DESC;FMTTYPE=text/html:<!DOCTYPE html><html><head><title></title></head><body aria-disabled="false"><p>Hosted by Valmont\, the Third Thursday will include Country Music Showdown and lots of give-aways</p></body></html>
LOCATION:402 Norris Ave.
UID:e.1565.1440789
SEQUENCE:3
DTSTAMP:20260421T013046Z
URL:https://members.mccookchamber.org/eventcalendar/Details/third-thursday-1705963?sourceTypeId=Hub
END:VEVENT
END:VCALENDAR
