BEGIN:VCALENDAR
VERSION:2.0
PRODID:-//ChamberMaster//Event Calendar 2.0//EN
METHOD:PUBLISH
X-PUBLISHED-TTL:P1H
REFRESH-INTERVAL:P1H
CALSCALE:GREGORIAN
BEGIN:VTIMEZONE
TZID:America/Chicago
BEGIN:DAYLIGHT
RRULE:FREQ=YEARLY;BYMONTH=3;BYDAY=2SU
DTSTART:20070101T000000
TZOFFSETFROM:-0600
TZOFFSETTO:-0500
TZNAME:Central Daylight Time
END:DAYLIGHT
BEGIN:STANDARD
RRULE:FREQ=YEARLY;BYMONTH=11;BYDAY=1SU
DTSTART:20070101T000000
TZOFFSETFROM:-0500
TZOFFSETTO:-0600
TZNAME:Central Standard Time
END:STANDARD
END:VTIMEZONE
BEGIN:VEVENT
DTSTART;TZID=America/Chicago:20260618T170000
DTEND;TZID=America/Chicago:20260618T200000
X-MICROSOFT-CDO-ALLDAYEVENT:FALSE
SUMMARY:Third Thursday
DESCRIPTION:CASA/Community Kitchen and Walmart host the June Third Thursday with "Come to the Table" where families are encouraged to sit down for a meal together.
X-ALT-DESC;FMTTYPE=text/html:<!DOCTYPE html><html><head><title></title></head><body aria-disabled="false"><p>CASA/Community Kitchen and Walmart host the June Third Thursday with &quot\;Come to the Table&quot\; where families are encouraged to sit down for a meal together.</p></body></html>
LOCATION:402 Norris Ave.
UID:e.1565.1440780
SEQUENCE:3
DTSTAMP:20260421T013039Z
URL:https://members.mccookchamber.org/eventcalendar/Details/third-thursday-1705955?sourceTypeId=Hub
END:VEVENT
END:VCALENDAR
