BEGIN:VCALENDAR
VERSION:2.0
PRODID:-//ChamberMaster//Event Calendar 2.0//EN
METHOD:PUBLISH
X-PUBLISHED-TTL:P1H
REFRESH-INTERVAL:P1H
CALSCALE:GREGORIAN
BEGIN:VTIMEZONE
TZID:America/Chicago
BEGIN:DAYLIGHT
RRULE:FREQ=YEARLY;BYMONTH=3;BYDAY=2SU
DTSTART:20070101T000000
TZOFFSETFROM:-0600
TZOFFSETTO:-0500
TZNAME:Central Daylight Time
END:DAYLIGHT
BEGIN:STANDARD
RRULE:FREQ=YEARLY;BYMONTH=11;BYDAY=1SU
DTSTART:20070101T000000
TZOFFSETFROM:-0500
TZOFFSETTO:-0600
TZNAME:Central Standard Time
END:STANDARD
END:VTIMEZONE
BEGIN:VEVENT
DTSTART;TZID=America/Chicago:20260709T190000
DTEND;TZID=America/Chicago:20260709T210000
X-MICROSOFT-CDO-ALLDAYEVENT:FALSE
SUMMARY:MNB's Hot Summer Nights
DESCRIPTION:Join us for a free concert in Norris Park featuring On the Fritz!
X-ALT-DESC;FMTTYPE=text/html:Join us for a free concert in Norris Park featuring On the Fritz!
LOCATION:McCook NE 69001
UID:e.1565.1440149
SEQUENCE:3
DTSTAMP:20260421T013329Z
URL:https://members.mccookchamber.org/eventcalendar/Details/mnb-s-hot-summer-nights-1704843?sourceTypeId=Hub
END:VEVENT
END:VCALENDAR
