BEGIN:VCALENDAR
VERSION:2.0
PRODID:-//ChamberMaster//Event Calendar 2.0//EN
METHOD:PUBLISH
X-PUBLISHED-TTL:P1H
REFRESH-INTERVAL:P1H
CALSCALE:GREGORIAN
BEGIN:VTIMEZONE
TZID:America/Chicago
BEGIN:DAYLIGHT
RRULE:FREQ=YEARLY;BYMONTH=3;BYDAY=2SU
DTSTART:20070101T000000
TZOFFSETFROM:-0600
TZOFFSETTO:-0500
TZNAME:Central Daylight Time
END:DAYLIGHT
BEGIN:STANDARD
RRULE:FREQ=YEARLY;BYMONTH=11;BYDAY=1SU
DTSTART:20070101T000000
TZOFFSETFROM:-0500
TZOFFSETTO:-0600
TZNAME:Central Standard Time
END:STANDARD
END:VTIMEZONE
BEGIN:VEVENT
DTSTART;TZID=America/Chicago:20260916T000000
DTEND;TZID=America/Chicago:20260919T230000
X-MICROSOFT-CDO-ALLDAYEVENT:FALSE
SUMMARY:Heritage Days 2026
DESCRIPTION:Our biggest event of the year\, Heritage Days is a historic 5-day event that brings people back to McCook to celebrate our heritage and community pride. Join in the fun with the annual Heritage Days Parade and Vendor Show\, along with other events throughout the whole week!Vendor Show RegistrationParade Entry RegistrationClick the Register button on this page to sponsor Heritage Days!\nHeritage Days is back with an Oktoberfest! After the vendor show\, join us on the bricks for a beer garden\, music\, and more!Be sure to mark your calendars for HERITAGE DAYS - September 16-19\, 2026!
X-ALT-DESC;FMTTYPE=text/html:<!DOCTYPE html><html><head><title></title></head><body aria-disabled="false" aria-label="To enrich screen reader interactions\, please activate Accessibility in Grammarly extension settings" data-new-gr-c-s-loaded="14.1255.0" spellcheck="false"><p>Our biggest event of the year\, Heritage Days is a historic 5-day event that brings people back to McCook to celebrate our heritage and community pride. Join in the fun with the annual Heritage Days Parade and Vendor Show\, along with other events throughout the whole week!</p><table fr-original-style="width: 100%\;" style="width: 100%\; border: 0px\; border-collapse: collapse\; empty-cells: show\; max-width: 100%\;"><tbody><tr fr-original-style="" style="user-select: none\;"><td fr-original-style="width: 33.3333%\;" style="width: 33.3333%\; min-width: 5px\; border: 1px solid rgb(221\, 221\, 221)\; user-select: text\;"><div data-empty="true" style="text-align: center\;"><a fr-original-style="" href="https://members.mccookchamber.org/ap/Events/Register/2JFEdkoC3CNCz" rel="noopener noreferrer" style="user-select: auto\;" target="_blank"><strong fr-original-style="" style="font-weight: 700\;">Vendor Show Registration</strong></a></div></td><td fr-original-style="width: 33.3333%\;" style="width: 33.3333%\; min-width: 5px\; border: 1px solid rgb(221\, 221\, 221)\; user-select: text\;"><div data-empty="true" style="text-align: center\;"><a fr-original-style="" href="https://members.mccookchamber.org/eventcalendar/Details/heritage-days-parade-2025-1322973?sourceTypeId=Hub" rel="noopener noreferrer" style="user-select: auto\;" target="_blank"><strong fr-original-style="" style="font-weight: 700\;">Parade Entry Registration</strong></a></div></td><td fr-original-style="width: 33.3333%\;" style="width: 33.3333%\; min-width: 5px\; border: 1px solid rgb(221\, 221\, 221)\; user-select: text\;"><a href="https://members.mccookchamber.org/ap/Events/Register/R1F0jxjFRC0CX" fr-original-style="" style="user-select: auto\;"></a></td></tr></tbody></table><hr fr-original-style="" style="clear: both\; user-select: none\; break-after: page\;"><p style="text-align: center\;"><strong fr-original-style="" style="font-weight: 700\;"><span style="font-size: 36px\;">Click the Register button on this page to sponsor Heritage Days!</span></strong></p><hr fr-original-style="" style="clear: both\; user-select: none\; break-after: page\;"><p><br></p><p>Heritage Days is back with an Oktoberfest! After the vendor show\, join us on the bricks for a beer garden\, music\, and more!</p><p style="text-align: center\;"><span style="color: rgb(184\, 49\, 47)\; font-family: Verdana\, Geneva\, sans-serif\; font-size: 30px\;">Be sure to mark your calendars for&nbsp\;</span></p><p style="text-align: center\;"><span style="color: rgb(184\, 49\, 47)\; font-family: Verdana\, Geneva\, sans-serif\; font-size: 30px\;"><strong fr-original-style="" style="font-weight: 700\;">HERITAGE DAYS - September 16-19\, 2026!</strong></span></p></body></html>
LOCATION:
UID:e.1565.1289373
SEQUENCE:3
DTSTAMP:20260420T141427Z
URL:https://members.mccookchamber.org/eventcalendar/Details/heritage-days-2026-1509648?sourceTypeId=Hub
END:VEVENT
END:VCALENDAR
