BEGIN:VCALENDAR
VERSION:2.0
PRODID:-//ChamberMaster//Event Calendar 2.0//EN
METHOD:PUBLISH
X-PUBLISHED-TTL:P1H
REFRESH-INTERVAL:P1H
CALSCALE:GREGORIAN
BEGIN:VTIMEZONE
TZID:America/Chicago
BEGIN:DAYLIGHT
RRULE:FREQ=YEARLY;BYMONTH=3;BYDAY=2SU
DTSTART:20070101T000000
TZOFFSETFROM:-0600
TZOFFSETTO:-0500
TZNAME:Central Daylight Time
END:DAYLIGHT
BEGIN:STANDARD
RRULE:FREQ=YEARLY;BYMONTH=11;BYDAY=1SU
DTSTART:20070101T000000
TZOFFSETFROM:-0500
TZOFFSETTO:-0600
TZNAME:Central Standard Time
END:STANDARD
END:VTIMEZONE
BEGIN:VEVENT
DTSTART;TZID=America/Chicago:20260407T190000
DTEND;TZID=America/Chicago:20260407T200000
X-MICROSOFT-CDO-ALLDAYEVENT:FALSE
SUMMARY:Buffalo Common Storytelling and Music Festival First Tuesday
DESCRIPTION:Supporters of the Buffalo Commons Storytelling and Music Festival are invited to dive into their First Tuesday event April 7 from 7 to 8pm at The Scoop (305 West 10th).\n\nFeatured speakers are members and coaches of the McCook High swim/dive team who will share stories from their unusual and record setting season just completed. Not having a home pool only adds to the tales about meet victories and traveling to and from practices. What they have to say is sure to be a splash with the audience.\n\nAnyone with their own swimming adventure to share is encouraged to attend. As always\, listeners are welcome as well. Ice cream and other treats are available for purchase.
X-ALT-DESC;FMTTYPE=text/html:Supporters of the Buffalo Commons Storytelling and Music Festival are invited to dive into their First Tuesday event April 7 from 7 to 8pm at The Scoop (305 West 10th).\n\nFeatured speakers are members and coaches of the McCook High swim/dive team who will share stories from their unusual and record setting season just completed. Not having a home pool only adds to the tales about meet victories and traveling to and from practices. What they have to say is sure to be a splash with the audience.\n\nAnyone with their own swimming adventure to share is encouraged to attend. As always\, listeners are welcome as well. Ice cream and other treats are available for purchase.
LOCATION:305 West 10th McCook NE 69001
UID:e.1565.1436895
SEQUENCE:3
DTSTAMP:20260421T013525Z
URL:https://members.mccookchamber.org/eventcalendar/Details/buffalo-common-storytelling-and-music-festival-first-tuesday-1700915?sourceTypeId=Hub
END:VEVENT
END:VCALENDAR
